BEGIN:VCALENDAR
VERSION:2.0
PRODID:-//104.152.168.27//NONSGML kigkonsult.se iCalcreator 2.20//
CALSCALE:GREGORIAN
METHOD:PUBLISH
X-WR-TIMEZONE:Asia/Tokyo
BEGIN:VEVENT
UID:event40227@Tokyo Gig Guide
DTSTAMP:20260420T204612Z
CATEGORIES:Classical
DESCRIPTION:Reison KURODA (Shakuhachi) × Sakuhiko FUSE (Cb)\nカテゴリ: Classica
 l\nリンク: https://www.tokyogigguide.com/index.php?option=com_jem&view=event&
 id=40227:reison-kuroda-shakuhachi-sunahiko-fuse-cb&Itemid=1094\n
DTSTART:20260320T143000
DTEND:20260320T143000
LOCATION:In-F\,3F 3-4-19 higashiooizumi\, nerima-ku\, Tokyo\,Oizumigakuen
SUMMARY:Reison KURODA (Shakuhachi) × Sakuhiko FUSE (Cb)
URL:https://www.tokyogigguide.com/index.php?option=com_jem&view=event&id=40
 227:reison-kuroda-shakuhachi-sunahiko-fuse-cb&Itemid=1094
END:VEVENT
END:VCALENDAR
