BEGIN:VCALENDAR
VERSION:2.0
PRODID:-//104.152.168.27//NONSGML kigkonsult.se iCalcreator 2.20//
CALSCALE:GREGORIAN
METHOD:PUBLISH
X-WR-TIMEZONE:Asia/Tokyo
BEGIN:VEVENT
UID:event40240@Tokyo Gig Guide
DTSTAMP:20260420T112912Z
CATEGORIES:Alternative\, Dub\, Electronic\, Punk
DESCRIPTION:Ishishi [Astral Communications]\, hamachi [Hanazono distance\, 
 LOLOET\, HUGEN\, etc.]\, yagihiromi [Cruyff]\nカテゴリ: Alternative\, Dub\, El
 ectronic\, Punk\nリンク: https://www.tokyogigguide.com/index.php?option=com_j
 em&view=event&id=40240:ishishi-astral-communications-hamachi-hanazono-dist
 ance-loloet-hugen-etc-yagihiromi-cruyff&Itemid=1094\n
DTSTART:20260426T183000
DTEND:20260426T183000
LOCATION:POLARIS\,6-2-10 Minami-Aoyama\, Minato-ku\, Tokyo\,Minami-Aoyama
SUMMARY:Ishishi [Astral Communications]\, hamachi [Hanazono distance\, LOLO
 ET\, HUGEN\, etc.]\, yagihiromi [Cruyff]
URL:https://www.tokyogigguide.com/index.php?option=com_jem&view=event&id=40
 240:ishishi-astral-communications-hamachi-hanazono-distance-loloet-hugen-e
 tc-yagihiromi-cruyff&Itemid=1094
END:VEVENT
END:VCALENDAR
