BEGIN:VCALENDAR
VERSION:2.0
PRODID:-//104.152.168.27//NONSGML kigkonsult.se iCalcreator 2.20//
CALSCALE:GREGORIAN
METHOD:PUBLISH
X-WR-TIMEZONE:Asia/Tokyo
BEGIN:VEVENT
UID:event40258@Tokyo Gig Guide
DTSTAMP:20260423T084348Z
CATEGORIES:Electronic Rock\, Indie\, Krautrock
DESCRIPTION:Stereolab\nカテゴリ: Electronic Rock\, Indie\, Krautrock\nリンク: http
 s://www.tokyogigguide.com/index.php?option=com_jem&view=event&id=40258:ste
 reolab&Itemid=1094\n
DTSTART:20260702T180000
DTEND:20260702T180000
LOCATION:Ex Theater\,Nishi-Azabu 1-2-9\,Roppongi
SUMMARY:Stereolab
URL:https://www.tokyogigguide.com/index.php?option=com_jem&view=event&id=40
 258:stereolab&Itemid=1094
END:VEVENT
END:VCALENDAR
