BEGIN:VCALENDAR
VERSION:2.0
PRODID:-//104.152.168.27//NONSGML kigkonsult.se iCalcreator 2.20//
CALSCALE:GREGORIAN
METHOD:PUBLISH
X-WR-TIMEZONE:Asia/Tokyo
BEGIN:VEVENT
UID:event40337@Tokyo Gig Guide
DTSTAMP:20260425T223409Z
CATEGORIES:Avant garde\, Experimental\, Improvised\, Noise
DESCRIPTION:Mania Organ\, Kokokami (Kaori Komura x MIKI)\, Kenta Koyama\, T
 akeshi Saeki\nカテゴリ: Avant garde\, Experimental\, Improvised\, Noise\nリンク: 
 https://www.tokyogigguide.com/index.php?option=com_jem&view=event&id=40337
 :live-mania-organ-kokokami-kaori-komura-x-miki-kenta-koyama-takeshi-saeki&
 Itemid=1094\n
DTSTART:20260423T190000
DTEND:20260423T190000
LOCATION:Oriental Force\,#8 Nitto Build. B1\, Koenji-Minami 3-38-6\,Koenji
SUMMARY:Mania Organ\, Kokokami (Kaori Komura x MIKI)\, Kenta Koyama\, Takes
 hi Saeki
URL:https://www.tokyogigguide.com/index.php?option=com_jem&view=event&id=40
 337:live-mania-organ-kokokami-kaori-komura-x-miki-kenta-koyama-takeshi-sae
 ki&Itemid=1094
END:VEVENT
END:VCALENDAR
