BEGIN:VCALENDAR
VERSION:2.0
PRODID:-//104.152.168.27//NONSGML kigkonsult.se iCalcreator 2.20//
CALSCALE:GREGORIAN
METHOD:PUBLISH
X-WR-TIMEZONE:Asia/Tokyo
BEGIN:VEVENT
UID:event40413@Tokyo Gig Guide
DTSTAMP:20260426T040127Z
CATEGORIES:Blues\, Funk\, Pop\, Soul
DESCRIPTION:Just Right Band Jam Session\nカテゴリ: Blues\, Funk\, Pop\, Soul\nリ
 ンク: https://www.tokyogigguide.com/index.php?option=com_jem&view=event&id=4
 0413:just-right-band-jam-session&Itemid=1094\n
DTSTART:20260424T190000
DTEND:20260424T190000
LOCATION:Love\, Peace and Soul Live Cafe\,Parfum Kyodo B1-C 1-5-6 Kyodo\, S
 etagaya-ku\, Tokyo\,Kyodo
SUMMARY:Just Right Band Jam Session
URL:https://www.tokyogigguide.com/index.php?option=com_jem&view=event&id=40
 413:just-right-band-jam-session&Itemid=1094
END:VEVENT
END:VCALENDAR
