BEGIN:VCALENDAR
VERSION:2.0
PRODID:-//104.152.168.27//NONSGML kigkonsult.se iCalcreator 2.20//
CALSCALE:GREGORIAN
METHOD:PUBLISH
X-WR-TIMEZONE:Asia/Tokyo
BEGIN:VEVENT
UID:event40454@Tokyo Gig Guide
DTSTAMP:20260426T023658Z
CATEGORIES:Hardcore
DESCRIPTION:Modern Guns\, UNDERBLUE\, makeshift\, concealments\, halted pun
 ch\, mogry home\nカテゴリ: Hardcore\nリンク: https://www.tokyogigguide.com/index.
 php?option=com_jem&view=event&id=40454:modern-guns-underblue-makeshift-con
 cealments-halted-punch-mogry-home&Itemid=1094\n
DTSTART:20260517T163000
DTEND:20260517T163000
LOCATION:Wall\,Parl Bldg B1F\, 3-15-8 Nishi-Shinjuku\,Shinjuku
SUMMARY:Modern Guns\, UNDERBLUE\, makeshift\, concealments\, halted punch\,
  mogry home
URL:https://www.tokyogigguide.com/index.php?option=com_jem&view=event&id=40
 454:modern-guns-underblue-makeshift-concealments-halted-punch-mogry-home&I
 temid=1094
END:VEVENT
END:VCALENDAR
