BEGIN:VCALENDAR
VERSION:2.0
PRODID:-//104.152.168.27//NONSGML kigkonsult.se iCalcreator 2.20//
CALSCALE:GREGORIAN
METHOD:PUBLISH
X-WR-TIMEZONE:Asia/Tokyo
BEGIN:VEVENT
UID:event40470@Tokyo Gig Guide
DTSTAMP:20260424T021556Z
CATEGORIES:Party
DESCRIPTION:MODS MAYDAY JAPAN 2026: The Boss\, Eus Reginas\, GENO LONDON\, 
 Mellow Fellow\, OSAKA MONAURAIL\, DJs\, more\nカテゴリ: Party\nリンク: https://ww
 w.tokyogigguide.com/index.php?option=com_jem&view=event&id=40470:mods-mayd
 ay-japan-2026&Itemid=1094\n
DTSTART:20260516T130000
DTEND:20260516T130000
LOCATION:TOP BEAT CLUB\,1-15-1\, Shimizu\, Suginami-ku\, Tokyo\,Ogikubo
SUMMARY:MODS MAYDAY JAPAN 2026: The Boss\, Eus Reginas\, GENO LONDON\, Mell
 ow Fellow\, OSAKA MONAURAIL\, DJs\, more
URL:https://www.tokyogigguide.com/index.php?option=com_jem&view=event&id=40
 470:mods-mayday-japan-2026&Itemid=1094
END:VEVENT
END:VCALENDAR
