BEGIN:VCALENDAR
VERSION:2.0
PRODID:-//104.152.168.27//NONSGML kigkonsult.se iCalcreator 2.20//
CALSCALE:GREGORIAN
METHOD:PUBLISH
X-WR-TIMEZONE:Asia/Tokyo
BEGIN:VEVENT
UID:event40520@Tokyo Gig Guide
DTSTAMP:20260420T115713Z
CATEGORIES:Fusion\, Progressive\, Rock
DESCRIPTION:Orbit (Natsuki Kido\, Jiro Okada\, Motonosuke Higuchi)\nカテゴリ: F
 usion\, Progressive\, Rock\nリンク: https://www.tokyogigguide.com/index.php?o
 ption=com_jem&view=event&id=40520:orbit-natsuki-kido-jiro-okada-motonosuke
 -higuchi&Itemid=1094\n
DTSTART:20260424T183000
DTEND:20260424T183000
LOCATION:Ongakushitsu DX\,B1F 3-20-4 Nishiwaseda Shinjuku-ku Tokyo\,Takadan
 obaba
SUMMARY:Orbit (Natsuki Kido\, Jiro Okada\, Motonosuke Higuchi)
URL:https://www.tokyogigguide.com/index.php?option=com_jem&view=event&id=40
 520:orbit-natsuki-kido-jiro-okada-motonosuke-higuchi&Itemid=1094
END:VEVENT
END:VCALENDAR
