BEGIN:VCALENDAR
VERSION:2.0
PRODID:-//104.152.168.27//NONSGML kigkonsult.se iCalcreator 2.20//
CALSCALE:GREGORIAN
METHOD:PUBLISH
X-WR-TIMEZONE:Asia/Tokyo
BEGIN:VEVENT
UID:event40568@Tokyo Gig Guide
DTSTAMP:20260421T171634Z
CATEGORIES:DJ\, Experimental\, Improvised\, Noise
DESCRIPTION:DJ Kei Kobayashi\, Darklaw\, Oriental Love\, Akari Watanabe\, W
 ATANABE @ XXX\, Tokyo Hamukatsu\nカテゴリ: DJ\, Experimental\, Improvised\, No
 ise\nリンク: https://www.tokyogigguide.com/index.php?option=com_jem&view=even
 t&id=40568:dj-kei-kobayashi-live-darklaw-oriental-love-akari-watanabe-wata
 nabe-xxx-tokyo-hamukatsu&Itemid=1094\n
DTSTART:20260509T180000
DTEND:20260509T180000
LOCATION:Oriental Force\,#8 Nitto Build. B1\, Koenji-Minami 3-38-6\,Koenji
SUMMARY:DJ Kei Kobayashi\, Darklaw\, Oriental Love\, Akari Watanabe\, WATAN
 ABE @ XXX\, Tokyo Hamukatsu
URL:https://www.tokyogigguide.com/index.php?option=com_jem&view=event&id=40
 568:dj-kei-kobayashi-live-darklaw-oriental-love-akari-watanabe-watanabe-xx
 x-tokyo-hamukatsu&Itemid=1094
END:VEVENT
END:VCALENDAR
