BEGIN:VCALENDAR
VERSION:2.0
PRODID:-//104.152.168.27//NONSGML kigkonsult.se iCalcreator 2.20//
CALSCALE:GREGORIAN
METHOD:PUBLISH
X-WR-TIMEZONE:Asia/Tokyo
BEGIN:VEVENT
UID:event40608@Tokyo Gig Guide
DTSTAMP:20260419T215956Z
CATEGORIES:Art\, Electro\, Electronic\, Experimental\, Improvised
DESCRIPTION:Yokubari Chameleon.\, Koikoi\, Motomu Miura\, YOU\, Yochi Tatsu
 ya\nカテゴリ: Art\, Electro\, Electronic\, Experimental\, Improvised\nリンク: htt
 ps://www.tokyogigguide.com/index.php?option=com_jem&view=event&id=40608:li
 ve-yokubari-chameleon-koikoi-motomu-miura-you-yochi-tatsuya&Itemid=1094\n
DTSTART:20260503T180000
DTEND:20260503T180000
LOCATION:Oriental Force\,#8 Nitto Build. B1\, Koenji-Minami 3-38-6\,Koenji
SUMMARY:Yokubari Chameleon.\, Koikoi\, Motomu Miura\, YOU\, Yochi Tatsuya
URL:https://www.tokyogigguide.com/index.php?option=com_jem&view=event&id=40
 608:live-yokubari-chameleon-koikoi-motomu-miura-you-yochi-tatsuya&Itemid=1
 094
END:VEVENT
END:VCALENDAR
