BEGIN:VCALENDAR
VERSION:2.0
PRODID:-//104.152.168.27//NONSGML kigkonsult.se iCalcreator 2.20//
CALSCALE:GREGORIAN
METHOD:PUBLISH
X-WR-TIMEZONE:Asia/Tokyo
BEGIN:VEVENT
UID:event40654@Tokyo Gig Guide
DTSTAMP:20260422T215139Z
CATEGORIES:Folk\, Pop\, Rock n Roll
DESCRIPTION:Masatoshi Nakagawa (vo\, guitar)\, Kenji Okayama (vo\, guitar)
 \nカテゴリ: Folk\, Pop\, Rock n Roll\nリンク: https://www.tokyogigguide.com/index
 .php?option=com_jem&view=event&id=40654:masatoshi-nakagawa-vo-guitar-kenji
 -okayama-vo-guitar&Itemid=1094\n
DTSTART:20260424T190000
DTEND:20260424T190000
LOCATION:POLARIS\,6-2-10 Minami-Aoyama\, Minato-ku\, Tokyo\,Minami-Aoyama
SUMMARY:Masatoshi Nakagawa (vo\, guitar)\, Kenji Okayama (vo\, guitar)
URL:https://www.tokyogigguide.com/index.php?option=com_jem&view=event&id=40
 654:masatoshi-nakagawa-vo-guitar-kenji-okayama-vo-guitar&Itemid=1094
END:VEVENT
END:VCALENDAR
