BEGIN:VCALENDAR
VERSION:2.0
PRODID:-//104.152.168.27//NONSGML kigkonsult.se iCalcreator 2.20//
CALSCALE:GREGORIAN
METHOD:PUBLISH
X-WR-TIMEZONE:Asia/Tokyo
BEGIN:VEVENT
UID:event40664@Tokyo Gig Guide
DTSTAMP:20260423T195120Z
CATEGORIES:Alternative\, Krautrock\, Punk\, Rock n Roll
DESCRIPTION:Kazuhide Yamaji [dip] (guitar)\, Koresuke Arishima [arko lemmin
 g] (bass)\, Takashi Kashikura [toe] (drums)\nカテゴリ: Alternative\, Krautrock
 \, Punk\, Rock n Roll\nリンク: https://www.tokyogigguide.com/index.php?option
 =com_jem&view=event&id=40664:kazuhide-yamaji-dip-guitar-koresuke-arishima-
 arko-lemming-bass-takashi-kashikura-toe-drums&Itemid=1094\n
DTSTART:20260502T190000
DTEND:20260502T190000
LOCATION:POLARIS\,6-2-10 Minami-Aoyama\, Minato-ku\, Tokyo\,Minami-Aoyama
SUMMARY:Kazuhide Yamaji [dip] (guitar)\, Koresuke Arishima [arko lemming] (
 bass)\, Takashi Kashikura [toe] (drums)
URL:https://www.tokyogigguide.com/index.php?option=com_jem&view=event&id=40
 664:kazuhide-yamaji-dip-guitar-koresuke-arishima-arko-lemming-bass-takashi
 -kashikura-toe-drums&Itemid=1094
END:VEVENT
END:VCALENDAR
