BEGIN:VCALENDAR
VERSION:2.0
PRODID:-//104.152.168.27//NONSGML kigkonsult.se iCalcreator 2.20//
CALSCALE:GREGORIAN
METHOD:PUBLISH
X-WR-TIMEZONE:Asia/Tokyo
BEGIN:VEVENT
UID:event40676@Tokyo Gig Guide
DTSTAMP:20260419T233659Z
CATEGORIES:Alternative\, Art\, Folk\, Rock n Roll
DESCRIPTION:Mariko Goto Acoustic violence POP / Tomei Robot\nカテゴリ: Alternat
 ive\, Art\, Folk\, Rock n Roll\nリンク: https://www.tokyogigguide.com/index.p
 hp?option=com_jem&view=event&id=40676:mariko-goto-acoustic-violence-pop-to
 mei-robot&Itemid=1094\n
DTSTART:20260531T183000
DTEND:20260531T183000
LOCATION:POLARIS\,6-2-10 Minami-Aoyama\, Minato-ku\, Tokyo\,Minami-Aoyama
SUMMARY:Mariko Goto Acoustic violence POP / Tomei Robot
URL:https://www.tokyogigguide.com/index.php?option=com_jem&view=event&id=40
 676:mariko-goto-acoustic-violence-pop-tomei-robot&Itemid=1094
END:VEVENT
END:VCALENDAR
