BEGIN:VCALENDAR
VERSION:2.0
PRODID:-//104.152.168.27//NONSGML kigkonsult.se iCalcreator 2.20//
CALSCALE:GREGORIAN
METHOD:PUBLISH
X-WR-TIMEZONE:Asia/Tokyo
BEGIN:VEVENT
UID:event40728@Tokyo Gig Guide
DTSTAMP:20260422T200602Z
CATEGORIES:Avant garde\, Experimental\, Free Jazz\, Improvised
DESCRIPTION:Antimatters (Yasushi Ishikawa\, Naoyasu Takahashi\, Arata Ogawa
 )\, Junji Mori+Satoshi Ichimura\nカテゴリ: Avant garde\, Experimental\, Free J
 azz\, Improvised\nリンク: https://www.tokyogigguide.com/index.php?option=com_
 jem&view=event&id=40728:antimatters-yasushi-ishikawa-naoyasu-takahashi-ara
 ta-ogawa-junji-mori-satoshi-ichimura&Itemid=1094\n
DTSTART:20260515T190000
DTEND:20260515T190000
LOCATION:Flying Teapot\,Enomoto Bldg B1F\, 27-7 Sakae-cho\, Nerima-ku\,Ekod
 a
SUMMARY:Antimatters (Yasushi Ishikawa\, Naoyasu Takahashi\, Arata Ogawa)\, 
 Junji Mori+Satoshi Ichimura
URL:https://www.tokyogigguide.com/index.php?option=com_jem&view=event&id=40
 728:antimatters-yasushi-ishikawa-naoyasu-takahashi-arata-ogawa-junji-mori-
 satoshi-ichimura&Itemid=1094
END:VEVENT
END:VCALENDAR
