BEGIN:VCALENDAR
VERSION:2.0
PRODID:-//104.152.168.27//NONSGML kigkonsult.se iCalcreator 2.20//
CALSCALE:GREGORIAN
METHOD:PUBLISH
X-WR-TIMEZONE:Asia/Tokyo
BEGIN:VEVENT
UID:event40742@Tokyo Gig Guide
DTSTAMP:20260426T013032Z
CATEGORIES:Jazz
DESCRIPTION:Takuma Ito\, Hisashi Ito\, Noboru Ando\, Ryo Saito\nカテゴリ: Jazz
 \nリンク: https://www.tokyogigguide.com/index.php?option=com_jem&view=event&i
 d=40742:takuma-ito-hisashi-ito-noboru-ando-ryo-saito&Itemid=1094\n
DTSTART:20260423T103000
DTEND:20260423T103000
LOCATION:Pit Inn\,Accord Bldg B1\, 2-12-4 Shinjuku\, Shinjuku-ku\,Shinjuku
SUMMARY:Takuma Ito\, Hisashi Ito\, Noboru Ando\, Ryo Saito
URL:https://www.tokyogigguide.com/index.php?option=com_jem&view=event&id=40
 742:takuma-ito-hisashi-ito-noboru-ando-ryo-saito&Itemid=1094
END:VEVENT
END:VCALENDAR
