BEGIN:VCALENDAR
VERSION:2.0
PRODID:-//104.152.168.27//NONSGML kigkonsult.se iCalcreator 2.20//
CALSCALE:GREGORIAN
METHOD:PUBLISH
X-WR-TIMEZONE:Asia/Tokyo
BEGIN:VEVENT
UID:event40743@Tokyo Gig Guide
DTSTAMP:20260425T210728Z
CATEGORIES:Other
DESCRIPTION:LarmeR\, Panic Monster !n Wonderland\, あまいものつめあわせ\, テラテラ\, さとりモ
 ンスター\, ROOKEY♡ROOKEYS\, Bunny La Crew\, Hey!Mommy!\, LilyS/ash\, Pastel Cl
 oset\, イイトコドリ\nカテゴリ: Other\nリンク: https://www.tokyogigguide.com/index.php?o
 ption=com_jem&view=event&id=40743:larmer-panic-monster-n-wonderland-rookey
 -rookeys-bunny-la-crew-hey-mommy-lilys-ash-pastel-closet-mix-berry-cherie-
 aivery-moon-rabbits-sorali&Itemid=1094\n
DTSTART:20260423T130000
DTEND:20260423T130000
LOCATION:DUO Music Exchange\,2-14-8 Dogenzaka\, Shibuya-ku\,Shibuya
SUMMARY:LarmeR\, Panic Monster !n Wonderland\, あまいものつめあわせ\, テラテラ\, さとりモンスター
 \, ROOKEY♡ROOKEYS\, Bunny La Crew\, Hey!Mommy!\, LilyS/ash\, Pastel Closet
 \, イイトコドリ
URL:https://www.tokyogigguide.com/index.php?option=com_jem&view=event&id=40
 743:larmer-panic-monster-n-wonderland-rookey-rookeys-bunny-la-crew-hey-mom
 my-lilys-ash-pastel-closet-mix-berry-cherie-aivery-moon-rabbits-sorali&Ite
 mid=1094
END:VEVENT
END:VCALENDAR
