BEGIN:VCALENDAR
VERSION:2.0
PRODID:-//104.152.168.27//NONSGML kigkonsult.se iCalcreator 2.20//
CALSCALE:GREGORIAN
METHOD:PUBLISH
X-WR-TIMEZONE:Asia/Tokyo
BEGIN:VEVENT
UID:event4240@Tokyo Gig Guide
DTSTAMP:20260420T054629Z
CATEGORIES:Mixed Genre
DESCRIPTION:DJ Codomo\, NZNZCAKE\, TADZIO\, LOVE AND HATES\, PETA\nカテゴリ: Mi
 xed Genre\nリンク: https://www.tokyogigguide.com/index.php?option=com_jem&vie
 w=event&id=4240:dj-codomo-nznzcake-tadzio-love-and-hates-peta&Itemid=1094
 \n
DTSTART:20110218T183000
DTEND:20110218T183000
LOCATION:Three\,Kitazawa 5-18-1 B1F\, Setagaya-ku\, Tokyo\,Shimokitazawa
SUMMARY:DJ Codomo\, NZNZCAKE\, TADZIO\, LOVE AND HATES\, PETA
URL:https://www.tokyogigguide.com/index.php?option=com_jem&view=event&id=42
 40:dj-codomo-nznzcake-tadzio-love-and-hates-peta&Itemid=1094
END:VEVENT
END:VCALENDAR
