BEGIN:VCALENDAR
VERSION:2.0
PRODID:-//104.152.168.27//NONSGML kigkonsult.se iCalcreator 2.20//
CALSCALE:GREGORIAN
METHOD:PUBLISH
X-WR-TIMEZONE:Asia/Tokyo
BEGIN:VEVENT
UID:event4445@Tokyo Gig Guide
DTSTAMP:20260420T113031Z
CATEGORIES:Rock
DESCRIPTION:MARBLE SHEEP\, BAZOOKA JOE\nカテゴリ: Rock\nリンク: https://www.tokyog
 igguide.com/index.php?option=com_jem&view=event&id=4445:shimokitazawa-thre
 e-3man-seriesnew-day-rising-&Itemid=1094\n
DTSTART:20110422T190000
DTEND:20110422T190000
LOCATION:Three\,Kitazawa 5-18-1 B1F\, Setagaya-ku\, Tokyo\,Shimokitazawa
SUMMARY:MARBLE SHEEP\, BAZOOKA JOE
URL:https://www.tokyogigguide.com/index.php?option=com_jem&view=event&id=44
 45:shimokitazawa-three-3man-seriesnew-day-rising-&Itemid=1094
END:VEVENT
END:VCALENDAR
