BEGIN:VCALENDAR
VERSION:2.0
PRODID:-//104.152.168.27//NONSGML kigkonsult.se iCalcreator 2.20//
CALSCALE:GREGORIAN
METHOD:PUBLISH
X-WR-TIMEZONE:Asia/Tokyo
BEGIN:VEVENT
UID:event4448@Tokyo Gig Guide
DTSTAMP:20260419T185530Z
CATEGORIES:Indie-Rock
DESCRIPTION:toddle\, Hyotan\, DJ Yoshida Hajime (PANICSMILE)\nカテゴリ: Indie-R
 ock\nリンク: https://www.tokyogigguide.com/index.php?option=com_jem&view=even
 t&id=4448:toddle-hyotan-dj-yoshida-hajime-panicsmile&Itemid=1094\n
DTSTART:20110409T190000
DTEND:20110409T190000
LOCATION:Three\,Kitazawa 5-18-1 B1F\, Setagaya-ku\, Tokyo\,Shimokitazawa
SUMMARY:toddle\, Hyotan\, DJ Yoshida Hajime (PANICSMILE)
URL:https://www.tokyogigguide.com/index.php?option=com_jem&view=event&id=44
 48:toddle-hyotan-dj-yoshida-hajime-panicsmile&Itemid=1094
END:VEVENT
END:VCALENDAR
