BEGIN:VCALENDAR
VERSION:2.0
PRODID:-//104.152.168.27//NONSGML kigkonsult.se iCalcreator 2.20//
CALSCALE:GREGORIAN
METHOD:PUBLISH
X-WR-TIMEZONE:Asia/Tokyo
BEGIN:VEVENT
UID:event4630@Tokyo Gig Guide
DTSTAMP:20260419T205428Z
CATEGORIES:Psychedelic
DESCRIPTION:MARBLE SHEEP\, oninko!\, Makkuroke Box\, STEINER\nカテゴリ: Psyched
 elic\nリンク: https://www.tokyogigguide.com/index.php?option=com_jem&view=eve
 nt&id=4630:marble-sheep-live&Itemid=1094\n
DTSTART:20110603T190000
DTEND:20110603T190000
LOCATION:Three\,Kitazawa 5-18-1 B1F\, Setagaya-ku\, Tokyo\,Shimokitazawa
SUMMARY:MARBLE SHEEP\, oninko!\, Makkuroke Box\, STEINER
URL:https://www.tokyogigguide.com/index.php?option=com_jem&view=event&id=46
 30:marble-sheep-live&Itemid=1094
END:VEVENT
END:VCALENDAR
