BEGIN:VCALENDAR
VERSION:2.0
PRODID:-//104.152.168.27//NONSGML kigkonsult.se iCalcreator 2.20//
CALSCALE:GREGORIAN
METHOD:PUBLISH
X-WR-TIMEZONE:Asia/Tokyo
BEGIN:VEVENT
UID:event4689@Tokyo Gig Guide
DTSTAMP:20260425T223542Z
CATEGORIES:Mixed Genre
DESCRIPTION:TBJE TOKYO: NTOKO\, BOYS OF HONG KONG\, PRAHA DEPART\, ANISAKIS
 \, more\nカテゴリ: Mixed Genre\nリンク: https://www.tokyogigguide.com/index.php?o
 ption=com_jem&view=event&id=4689:tbje-tokyo-ntoko-boys-of-hong-kong-praha-
 depart-more&Itemid=1094\n
DTSTART:20110528T190000
DTEND:20110528T190000
LOCATION:Gamuso\,Takuei Building 2F\, Asagaya-kita 2-12-5\,Asagaya
SUMMARY:TBJE TOKYO: NTOKO\, BOYS OF HONG KONG\, PRAHA DEPART\, ANISAKIS\, m
 ore
URL:https://www.tokyogigguide.com/index.php?option=com_jem&view=event&id=46
 89:tbje-tokyo-ntoko-boys-of-hong-kong-praha-depart-more&Itemid=1094
END:VEVENT
END:VCALENDAR
