BEGIN:VCALENDAR
VERSION:2.0
PRODID:-//104.152.168.27//NONSGML kigkonsult.se iCalcreator 2.20//
CALSCALE:GREGORIAN
METHOD:PUBLISH
X-WR-TIMEZONE:Asia/Tokyo
BEGIN:VEVENT
UID:event4722@Tokyo Gig Guide
DTSTAMP:20260421T175938Z
CATEGORIES:Noise Rock
DESCRIPTION:Limited Express (has gone?)\, (((REBELREBEL on REBELREBELS)))\,
  SOSITE\, PRAHA DEPART\nカテゴリ: Noise Rock\nリンク: https://www.tokyogigguide.c
 om/index.php?option=com_jem&view=event&id=4722:limited-express-has-gone-re
 belrebel-on-rebelrebels-sosite-praha-depart&Itemid=1094\n
DTSTART:20110612T183000
DTEND:20110612T183000
LOCATION:Three\,Kitazawa 5-18-1 B1F\, Setagaya-ku\, Tokyo\,Shimokitazawa
SUMMARY:Limited Express (has gone?)\, (((REBELREBEL on REBELREBELS)))\, SOS
 ITE\, PRAHA DEPART
URL:https://www.tokyogigguide.com/index.php?option=com_jem&view=event&id=47
 22:limited-express-has-gone-rebelrebel-on-rebelrebels-sosite-praha-depart&
 Itemid=1094
END:VEVENT
END:VCALENDAR
