BEGIN:VCALENDAR
VERSION:2.0
PRODID:-//104.152.168.27//NONSGML kigkonsult.se iCalcreator 2.20//
CALSCALE:GREGORIAN
METHOD:PUBLISH
X-WR-TIMEZONE:Asia/Tokyo
BEGIN:VEVENT
UID:event5223@Tokyo Gig Guide
DTSTAMP:20260424T171505Z
CATEGORIES:Alternative
DESCRIPTION:GEKITETSU\, TADZIO\, MASS OF THE FERMENTING DREGS\, dry as dust
 \nカテゴリ: Alternative\nリンク: https://www.tokyogigguide.com/index.php?option=c
 om_jem&view=event&id=5223:gekitetsu-tadzio-mass-of-the-fermenting-dregs-dr
 y-as-dust&Itemid=1094\n
DTSTART:20110901T183000
DTEND:20110901T183000
LOCATION:Three\,Kitazawa 5-18-1 B1F\, Setagaya-ku\, Tokyo\,Shimokitazawa
SUMMARY:GEKITETSU\, TADZIO\, MASS OF THE FERMENTING DREGS\, dry as dust
URL:https://www.tokyogigguide.com/index.php?option=com_jem&view=event&id=52
 23:gekitetsu-tadzio-mass-of-the-fermenting-dregs-dry-as-dust&Itemid=1094
END:VEVENT
END:VCALENDAR
