BEGIN:VCALENDAR
VERSION:2.0
PRODID:-//104.152.168.27//NONSGML kigkonsult.se iCalcreator 2.20//
CALSCALE:GREGORIAN
METHOD:PUBLISH
X-WR-TIMEZONE:Asia/Tokyo
BEGIN:VEVENT
UID:event5227@Tokyo Gig Guide
DTSTAMP:20260422T020454Z
CATEGORIES:Indie
DESCRIPTION:LLama\, 4 bonjour's parties\,  ゆーきゃん\nカテゴリ: Indie\nリンク: https:/
 /www.tokyogigguide.com/index.php?option=com_jem&view=event&id=5227:llama-4
 -bonjours-parties-&Itemid=1094\n
DTSTART:20110918T183000
DTEND:20110918T183000
LOCATION:Three\,Kitazawa 5-18-1 B1F\, Setagaya-ku\, Tokyo\,Shimokitazawa
SUMMARY:LLama\, 4 bonjour's parties\,  ゆーきゃん
URL:https://www.tokyogigguide.com/index.php?option=com_jem&view=event&id=52
 27:llama-4-bonjours-parties-&Itemid=1094
END:VEVENT
END:VCALENDAR
