BEGIN:VCALENDAR
VERSION:2.0
PRODID:-//104.152.168.27//NONSGML kigkonsult.se iCalcreator 2.20//
CALSCALE:GREGORIAN
METHOD:PUBLISH
X-WR-TIMEZONE:Asia/Tokyo
BEGIN:VEVENT
UID:event5411@Tokyo Gig Guide
DTSTAMP:20260422T170508Z
CATEGORIES:Avant garde
DESCRIPTION:Michiyo Yagi\, Hugues Vincent\, Tamaya Honda\nカテゴリ: Avant garde
 \nリンク: https://www.tokyogigguide.com/index.php?option=com_jem&view=event&i
 d=5411:michiyo-yagi-hugues-vincent-tamaya-honda&Itemid=1094\n
DTSTART:20111007T190000
DTEND:20111007T190000
LOCATION:Dolphy\,2-17-4-2F Miyagawa-cho\, Naka-ku\, Yokohama\,Yokohama
SUMMARY:Michiyo Yagi\, Hugues Vincent\, Tamaya Honda
URL:https://www.tokyogigguide.com/index.php?option=com_jem&view=event&id=54
 11:michiyo-yagi-hugues-vincent-tamaya-honda&Itemid=1094
END:VEVENT
END:VCALENDAR
