BEGIN:VCALENDAR
VERSION:2.0
PRODID:-//104.152.168.27//NONSGML kigkonsult.se iCalcreator 2.20//
CALSCALE:GREGORIAN
METHOD:PUBLISH
X-WR-TIMEZONE:Asia/Tokyo
BEGIN:VEVENT
UID:event553@Tokyo Gig Guide
DTSTAMP:20260425T035925Z
CATEGORIES:Hardcore
DESCRIPTION:ABRHAM CROSS\, ELECTRO HUMANGEL\, BUTTHEAD SUNGLASS\, ALLIANCE\
 , NERVS\, BREAKfAST...\nカテゴリ: Hardcore\nリンク: https://www.tokyogigguide.com
 /index.php?option=com_jem&view=event&id=553:abrham-cross-electro-humangel-
 butthead-sunglass-alliance-nervs-breakfast&Itemid=1094\n
DTSTART:20090111T170000
DTEND:20090111T170000
LOCATION:Earthdom\,Lisbon Bldg B1F\, 3-32-3 Okubo\, Shinjuku-ku\,Okubo
SUMMARY:ABRHAM CROSS\, ELECTRO HUMANGEL\, BUTTHEAD SUNGLASS\, ALLIANCE\, NE
 RVS\, BREAKfAST...
URL:https://www.tokyogigguide.com/index.php?option=com_jem&view=event&id=55
 3:abrham-cross-electro-humangel-butthead-sunglass-alliance-nervs-breakfast
 &Itemid=1094
END:VEVENT
END:VCALENDAR
