BEGIN:VCALENDAR
VERSION:2.0
PRODID:-//104.152.168.27//NONSGML kigkonsult.se iCalcreator 2.20//
CALSCALE:GREGORIAN
METHOD:PUBLISH
X-WR-TIMEZONE:Asia/Tokyo
BEGIN:VEVENT
UID:event5934@Tokyo Gig Guide
DTSTAMP:20260424T184204Z
CATEGORIES:Indie-Rock
DESCRIPTION:Icon Girl Pistols\, Jimmy Binks & The Shakehorns\, Callums Whis
 ky Tales\nカテゴリ: Indie-Rock\nリンク: https://www.tokyogigguide.com/index.php?o
 ption=com_jem&view=event&id=5934:icon-girl-pistols-jimmy-binks-a-the-shake
 horns-callums-whisky-tales&Itemid=1094\n
DTSTART:20120129T193000
DTEND:20120129T193000
LOCATION:NOB\,Maruyamacho 1-3 BF\, Shibuya-ku\,Shibuya
SUMMARY:Icon Girl Pistols\, Jimmy Binks & The Shakehorns\, Callums Whisky T
 ales
URL:https://www.tokyogigguide.com/index.php?option=com_jem&view=event&id=59
 34:icon-girl-pistols-jimmy-binks-a-the-shakehorns-callums-whisky-tales&Ite
 mid=1094
END:VEVENT
END:VCALENDAR
