BEGIN:VCALENDAR
VERSION:2.0
PRODID:-//104.152.168.27//NONSGML kigkonsult.se iCalcreator 2.20//
CALSCALE:GREGORIAN
METHOD:PUBLISH
X-WR-TIMEZONE:Asia/Tokyo
BEGIN:VEVENT
UID:event642@Tokyo Gig Guide
DTSTAMP:20260424T231547Z
CATEGORIES:Unclassifiable
DESCRIPTION:BACTERIA\, kara\, PIGMEN\, RUINS alone\nカテゴリ: Unclassifiable\nリ
 ンク: https://www.tokyogigguide.com/index.php?option=com_jem&view=event&id=6
 42:bacteria-kara-pigmen-ruins-alone&Itemid=1094\n
DTSTART:20090222T183000
DTEND:20090222T183000
LOCATION:Earthdom\,Lisbon Bldg B1F\, 3-32-3 Okubo\, Shinjuku-ku\,Okubo
SUMMARY:BACTERIA\, kara\, PIGMEN\, RUINS alone
URL:https://www.tokyogigguide.com/index.php?option=com_jem&view=event&id=64
 2:bacteria-kara-pigmen-ruins-alone&Itemid=1094
END:VEVENT
END:VCALENDAR
