BEGIN:VCALENDAR
VERSION:2.0
PRODID:-//104.152.168.27//NONSGML kigkonsult.se iCalcreator 2.20//
CALSCALE:GREGORIAN
METHOD:PUBLISH
X-WR-TIMEZONE:Asia/Tokyo
BEGIN:VEVENT
UID:event643@Tokyo Gig Guide
DTSTAMP:20260426T003457Z
CATEGORIES:Experimental
DESCRIPTION:SCUM BIRTHDAY 2009\nカテゴリ: Experimental\nリンク: https://www.tokyog
 igguide.com/index.php?option=com_jem&view=event&id=643:scum-birthday-2009&
 Itemid=1094\n
DTSTART:20090228T143000
DTEND:20090228T143000
LOCATION:Earthdom\,Lisbon Bldg B1F\, 3-32-3 Okubo\, Shinjuku-ku\,Okubo
SUMMARY:SCUM BIRTHDAY 2009
URL:https://www.tokyogigguide.com/index.php?option=com_jem&view=event&id=64
 3:scum-birthday-2009&Itemid=1094
END:VEVENT
END:VCALENDAR
