BEGIN:VCALENDAR
VERSION:2.0
PRODID:-//104.152.168.27//NONSGML kigkonsult.se iCalcreator 2.20//
CALSCALE:GREGORIAN
METHOD:PUBLISH
X-WR-TIMEZONE:Asia/Tokyo
BEGIN:VEVENT
UID:event754@Tokyo Gig Guide
DTSTAMP:20260424T085647Z
CATEGORIES:Metal
DESCRIPTION:SUNN O)))\,  Jim O'Rourke\nカテゴリ: Metal\nリンク: https://www.tokyog
 igguide.com/index.php?option=com_jem&view=event&id=754:sunn-o-coffins&Item
 id=1094\n
DTSTART:20090422T180000
DTEND:20090422T180000
LOCATION:Earthdom\,Lisbon Bldg B1F\, 3-32-3 Okubo\, Shinjuku-ku\,Okubo
SUMMARY:SUNN O)))\,  Jim O'Rourke
URL:https://www.tokyogigguide.com/index.php?option=com_jem&view=event&id=75
 4:sunn-o-coffins&Itemid=1094
END:VEVENT
END:VCALENDAR
