BEGIN:VCALENDAR
VERSION:2.0
PRODID:-//104.152.168.27//NONSGML kigkonsult.se iCalcreator 2.20//
CALSCALE:GREGORIAN
METHOD:PUBLISH
X-WR-TIMEZONE:Asia/Tokyo
BEGIN:VEVENT
UID:event762@Tokyo Gig Guide
DTSTAMP:20260422T071043Z
CATEGORIES:Psych-Folk
DESCRIPTION:Kazuki Tomokawa\nカテゴリ: Psych-Folk\nリンク: https://www.tokyogiggui
 de.com/index.php?option=com_jem&view=event&id=762:kazuki-tomokawa&Itemid=1
 094\n
DTSTART:20090406T190000
DTEND:20090406T190000
LOCATION:Showboat\,Oak Hill Koenji B1F\, 3-17-2 Koenji Kita\,Koenji
SUMMARY:Kazuki Tomokawa
URL:https://www.tokyogigguide.com/index.php?option=com_jem&view=event&id=76
 2:kazuki-tomokawa&Itemid=1094
END:VEVENT
END:VCALENDAR
