BEGIN:VCALENDAR
VERSION:2.0
PRODID:-//104.152.168.27//NONSGML kigkonsult.se iCalcreator 2.20//
CALSCALE:GREGORIAN
METHOD:PUBLISH
X-WR-TIMEZONE:Asia/Tokyo
BEGIN:VEVENT
UID:event763@Tokyo Gig Guide
DTSTAMP:20260423T212420Z
CATEGORIES:Psych-Folk
DESCRIPTION:Ai Aso\, Tori Kudo\, Hisato Higuchi\nカテゴリ: Psych-Folk\nリンク: htt
 ps://www.tokyogigguide.com/index.php?option=com_jem&view=event&id=763:ai-a
 so-tori-kudo-hisato-higuchi&Itemid=1094\n
DTSTART:20090404T183000
DTEND:20090404T183000
LOCATION:Showboat\,Oak Hill Koenji B1F\, 3-17-2 Koenji Kita\,Koenji
SUMMARY:Ai Aso\, Tori Kudo\, Hisato Higuchi
URL:https://www.tokyogigguide.com/index.php?option=com_jem&view=event&id=76
 3:ai-aso-tori-kudo-hisato-higuchi&Itemid=1094
END:VEVENT
END:VCALENDAR
