BEGIN:VCALENDAR
VERSION:2.0
PRODID:-//104.152.168.27//NONSGML kigkonsult.se iCalcreator 2.20//
CALSCALE:GREGORIAN
METHOD:PUBLISH
X-WR-TIMEZONE:Asia/Tokyo
BEGIN:VEVENT
UID:event764@Tokyo Gig Guide
DTSTAMP:20260423T004613Z
CATEGORIES:Psych-Folk
DESCRIPTION:Mikami Kan\nカテゴリ: Psych-Folk\nリンク: https://www.tokyogigguide.co
 m/index.php?option=com_jem&view=event&id=764:mikami-kan&Itemid=1094\n
DTSTART:20090405T183000
DTEND:20090405T183000
LOCATION:Showboat\,Oak Hill Koenji B1F\, 3-17-2 Koenji Kita\,Koenji
SUMMARY:Mikami Kan
URL:https://www.tokyogigguide.com/index.php?option=com_jem&view=event&id=76
 4:mikami-kan&Itemid=1094
END:VEVENT
END:VCALENDAR
