BEGIN:VCALENDAR
VERSION:2.0
PRODID:-//104.152.168.27//NONSGML kigkonsult.se iCalcreator 2.20//
CALSCALE:GREGORIAN
METHOD:PUBLISH
X-WR-TIMEZONE:Asia/Tokyo
BEGIN:VEVENT
UID:event7920@Tokyo Gig Guide
DTSTAMP:20260423T020426Z
CATEGORIES:Party
DESCRIPTION:CHOU GAZING: Applicants\, Slow-Marico\, DJs Fidel Villeneuve\, 
 Tom Tigertrap\, Ian Martin\nカテゴリ: Party\nリンク: https://www.tokyogigguide.co
 m/index.php?option=com_jem&view=event&id=7920:chou-gazing-applicants-slow-
 marico-djs-fidel-villeneuve-tom-tigertrap-ian-martin&Itemid=1094\n
DTSTART:20130208T200000
DTEND:20130208T200000
LOCATION:Knock (Koenji)\,Koenji Minami 3-48-6  B1F\,Koenji
SUMMARY:CHOU GAZING: Applicants\, Slow-Marico\, DJs Fidel Villeneuve\, Tom 
 Tigertrap\, Ian Martin
URL:https://www.tokyogigguide.com/index.php?option=com_jem&view=event&id=79
 20:chou-gazing-applicants-slow-marico-djs-fidel-villeneuve-tom-tigertrap-i
 an-martin&Itemid=1094
END:VEVENT
END:VCALENDAR
