BEGIN:VCALENDAR
VERSION:2.0
PRODID:-//104.152.168.27//NONSGML kigkonsult.se iCalcreator 2.20//
CALSCALE:GREGORIAN
METHOD:PUBLISH
X-WR-TIMEZONE:Asia/Tokyo
BEGIN:VEVENT
UID:event815@Tokyo Gig Guide
DTSTAMP:20260424T164644Z
CATEGORIES:Mixed Genre
DESCRIPTION:FASHION CRISIS with Candles\, Umbrella-X\, DJs: Kovacs\, James 
 Hadfield\, Ian Martin\nカテゴリ: Mixed Genre\nリンク: https://www.tokyogigguide.c
 om/index.php?option=com_jem&view=event&id=815:fashion-crisis&Itemid=1094\n
DTSTART:20090427T193000
DTEND:20090427T193000
LOCATION:Knock (Koenji)\,Koenji Minami 3-48-6  B1F\,Koenji
SUMMARY:FASHION CRISIS with Candles\, Umbrella-X\, DJs: Kovacs\, James Hadf
 ield\, Ian Martin
URL:https://www.tokyogigguide.com/index.php?option=com_jem&view=event&id=81
 5:fashion-crisis&Itemid=1094
END:VEVENT
END:VCALENDAR
