BEGIN:VCALENDAR
VERSION:2.0
PRODID:-//104.152.168.27//NONSGML kigkonsult.se iCalcreator 2.20//
CALSCALE:GREGORIAN
METHOD:PUBLISH
X-WR-TIMEZONE:Asia/Tokyo
BEGIN:VEVENT
UID:event832@Tokyo Gig Guide
DTSTAMP:20260425T215738Z
CATEGORIES:Psych-Folk
DESCRIPTION:Edmund Oak solo\nカテゴリ: Psych-Folk\nリンク: https://www.tokyogiggui
 de.com/index.php?option=com_jem&view=event&id=832:edmund-oak-solo&Itemid=1
 094\n
DTSTART:20090417T183000
DTEND:20090417T183000
LOCATION:Gamuso\,Takuei Building 2F\, Asagaya-kita 2-12-5\,Asagaya
SUMMARY:Edmund Oak solo
URL:https://www.tokyogigguide.com/index.php?option=com_jem&view=event&id=83
 2:edmund-oak-solo&Itemid=1094
END:VEVENT
END:VCALENDAR
