BEGIN:VCALENDAR
VERSION:2.0
PRODID:-//104.152.168.27//NONSGML kigkonsult.se iCalcreator 2.20//
CALSCALE:GREGORIAN
METHOD:PUBLISH
X-WR-TIMEZONE:Asia/Tokyo
BEGIN:VEVENT
UID:event914@Tokyo Gig Guide
DTSTAMP:20260425T202502Z
CATEGORIES:Alternative
DESCRIPTION:ELECTRIC-FUZZ!! -Daydream Version-  w/chanson sigeru\, CAUCUS\,
  taffy\, Oeil etc\nカテゴリ: Alternative\nリンク: https://www.tokyogigguide.com/i
 ndex.php?option=com_jem&view=event&id=914:electric-fuzz-daydream-version-&
 Itemid=1094\n
DTSTART:20090503T163000
DTEND:20090503T163000
LOCATION:Earthdom\,Lisbon Bldg B1F\, 3-32-3 Okubo\, Shinjuku-ku\,Okubo
SUMMARY:ELECTRIC-FUZZ!! -Daydream Version-  w/chanson sigeru\, CAUCUS\, taf
 fy\, Oeil etc
URL:https://www.tokyogigguide.com/index.php?option=com_jem&view=event&id=91
 4:electric-fuzz-daydream-version-&Itemid=1094
END:VEVENT
END:VCALENDAR
