BEGIN:VCALENDAR
VERSION:2.0
PRODID:-//104.152.168.27//NONSGML kigkonsult.se iCalcreator 2.20//
CALSCALE:GREGORIAN
METHOD:PUBLISH
X-WR-TIMEZONE:Asia/Tokyo
BEGIN:VEVENT
UID:event921@Tokyo Gig Guide
DTSTAMP:20260424T085923Z
CATEGORIES:Experimental
DESCRIPTION:The GoodLuck Boys\nカテゴリ: Experimental\nリンク: https://www.tokyogi
 gguide.com/index.php?option=com_jem&view=event&id=921:the-goodluck-boys&It
 emid=1094\n
DTSTART:20090508T190000
DTEND:20090508T190000
LOCATION:Earthdom\,Lisbon Bldg B1F\, 3-32-3 Okubo\, Shinjuku-ku\,Okubo
SUMMARY:The GoodLuck Boys
URL:https://www.tokyogigguide.com/index.php?option=com_jem&view=event&id=92
 1:the-goodluck-boys&Itemid=1094
END:VEVENT
END:VCALENDAR
