BEGIN:VCALENDAR
VERSION:2.0
PRODID:-//104.152.168.27//NONSGML kigkonsult.se iCalcreator 2.20//
CALSCALE:GREGORIAN
METHOD:PUBLISH
X-WR-TIMEZONE:Asia/Tokyo
BEGIN:VEVENT
UID:event933@Tokyo Gig Guide
DTSTAMP:20260425T130654Z
CATEGORIES:Other
DESCRIPTION:KIRIHITO\, 9dw (nine days wonder)\, H.B\, kowloon\, more\nカテゴリ:
  Other\nリンク: https://www.tokyogigguide.com/index.php?option=com_jem&view=e
 vent&id=933:kirihito-9dw-nine-days-wonder-hb-kowloon-more&Itemid=1094\n
DTSTART:20090523T183000
DTEND:20090523T183000
LOCATION:Earthdom\,Lisbon Bldg B1F\, 3-32-3 Okubo\, Shinjuku-ku\,Okubo
SUMMARY:KIRIHITO\, 9dw (nine days wonder)\, H.B\, kowloon\, more
URL:https://www.tokyogigguide.com/index.php?option=com_jem&view=event&id=93
 3:kirihito-9dw-nine-days-wonder-hb-kowloon-more&Itemid=1094
END:VEVENT
END:VCALENDAR
