BEGIN:VCALENDAR
VERSION:2.0
PRODID:-//104.152.168.27//NONSGML kigkonsult.se iCalcreator 2.20//
CALSCALE:GREGORIAN
METHOD:PUBLISH
X-WR-TIMEZONE:Asia/Tokyo
BEGIN:VEVENT
UID:event40019@Tokyo Gig Guide
DTSTAMP:20260423T131224Z
CATEGORIES:Improvised\, Experimental\, Avant garde
DESCRIPTION:Akaihirume (赤い日ル女)\, Mitsuhisa Sakaguchi (坂口光央)\nカテゴリ: Improvis
 ed\, Experimental\, Avant garde\nリンク: https://www.tokyogigguide.com/index.
 php?option=com_jem&view=event&id=40019:akaihirume-mitsuhisa-sakaguchi&Item
 id=1094\n
DTSTART:20260425T190000
DTEND:20260425T190000
LOCATION:Permian\,B1\, 3-14-4\, Nishigotanda\, Shinagawa-ku\, Tokyo\,Meguro
SUMMARY:Akaihirume (赤い日ル女)\, Mitsuhisa Sakaguchi (坂口光央)
URL:https://www.tokyogigguide.com/index.php?option=com_jem&view=event&id=40
 019:akaihirume-mitsuhisa-sakaguchi&Itemid=1094
END:VEVENT
BEGIN:VEVENT
UID:event39074@Tokyo Gig Guide
DTSTAMP:20260423T131224Z
CATEGORIES:Experimental\, Improvised
DESCRIPTION:Hans Koch + Paed Conca + Michael Thieke + Kevin Sommer + Yasumu
 ne Morishige\nカテゴリ: Experimental\, Improvised\nリンク: https://www.tokyogiggu
 ide.com/index.php?option=com_jem&view=event&id=39074:hans-koch-paed-conca-
 michael-thieke-kevin-sommer-yasumune-morishige&Itemid=1094\n
DTSTART:20260515T193000
DTEND:20260515T193000
LOCATION:Permian\,B1\, 3-14-4\, Nishigotanda\, Shinagawa-ku\, Tokyo\,Meguro
SUMMARY:Hans Koch + Paed Conca + Michael Thieke + Kevin Sommer + Yasumune M
 orishige
URL:https://www.tokyogigguide.com/index.php?option=com_jem&view=event&id=39
 074:hans-koch-paed-conca-michael-thieke-kevin-sommer-yasumune-morishige&It
 emid=1094
END:VEVENT
BEGIN:VEVENT
UID:event40088@Tokyo Gig Guide
DTSTAMP:20260423T131224Z
CATEGORIES:Experimental\, Improvised
DESCRIPTION:Dirk Stromberg + Fabio Rambelli + Yasumune Morishige\nカテゴリ: Exp
 erimental\, Improvised\nリンク: https://www.tokyogigguide.com/index.php?optio
 n=com_jem&view=event&id=40088:dirk-stromberg-fabio-rambelli-yasumune-moris
 hige&Itemid=1094\n
DTSTART:20260518T193000
DTEND:20260518T193000
LOCATION:Permian\,B1\, 3-14-4\, Nishigotanda\, Shinagawa-ku\, Tokyo\,Meguro
SUMMARY:Dirk Stromberg + Fabio Rambelli + Yasumune Morishige
URL:https://www.tokyogigguide.com/index.php?option=com_jem&view=event&id=40
 088:dirk-stromberg-fabio-rambelli-yasumune-morishige&Itemid=1094
END:VEVENT
BEGIN:VEVENT
UID:event40161@Tokyo Gig Guide
DTSTAMP:20260423T131224Z
CATEGORIES:Experimental\, Improvised
DESCRIPTION:Katsura Yamauchi (saxophone) + Yasumune Morishige (cello)\nカテゴリ
 : Experimental\, Improvised\nリンク: https://www.tokyogigguide.com/index.php?
 option=com_jem&view=event&id=40161:katsura-yamauchi-saxophone-yasumune-mor
 ishige-cello&Itemid=1094\n
DTSTART:20260609T193000
DTEND:20260609T193000
LOCATION:Permian\,B1\, 3-14-4\, Nishigotanda\, Shinagawa-ku\, Tokyo\,Meguro
SUMMARY:Katsura Yamauchi (saxophone) + Yasumune Morishige (cello)
URL:https://www.tokyogigguide.com/index.php?option=com_jem&view=event&id=40
 161:katsura-yamauchi-saxophone-yasumune-morishige-cello&Itemid=1094
END:VEVENT
END:VCALENDAR
