BEGIN:VCALENDAR
VERSION:2.0
PRODID:-//104.152.168.27//NONSGML kigkonsult.se iCalcreator 2.20//
CALSCALE:GREGORIAN
METHOD:PUBLISH
X-WR-TIMEZONE:Asia/Tokyo
BEGIN:VEVENT
UID:event40644@Tokyo Gig Guide
DTSTAMP:20260422T174108Z
CATEGORIES:Alternative\, Electronic\, Indie-Pop\, Rock\, WTF?
DESCRIPTION:OLDTIMER\, Kommune\, seasunsalt\, DJ:ume-rock\nカテゴリ: Alternativ
 e\, Electronic\, Indie-Pop\, Rock\, WTF?\nリンク: https://www.tokyogigguide.c
 om/index.php?option=com_jem&view=event&id=40644:oldtimer-kommune-seasunsal
 t-dj-ume-rock&Itemid=1094\n
DTSTART:20260424T190000
DTEND:20260424T190000
LOCATION:SPREAD\,2-12-6 Kitazawa\, Setagaya-ku\, Tokyo\,Shimokitazawa\,Japa
 n
SUMMARY:OLDTIMER\, Kommune\, seasunsalt\, DJ:ume-rock
URL:https://www.tokyogigguide.com/index.php?option=com_jem&view=event&id=40
 644:oldtimer-kommune-seasunsalt-dj-ume-rock&Itemid=1094
END:VEVENT
BEGIN:VEVENT
UID:event40576@Tokyo Gig Guide
DTSTAMP:20260422T174108Z
CATEGORIES:Alternative\, Emo
DESCRIPTION:ToyJoy\, Fallsheeps\nカテゴリ: Alternative\, Emo\nリンク: https://www.
 tokyogigguide.com/index.php?option=com_jem&view=event&id=40576:toyjoy-fall
 sheeps&Itemid=1094\n
DTSTART:20260426T120000
DTEND:20260426T120000
LOCATION:SPREAD\,2-12-6 Kitazawa\, Setagaya-ku\, Tokyo\,Shimokitazawa\,Japa
 n
SUMMARY:ToyJoy\, Fallsheeps
URL:https://www.tokyogigguide.com/index.php?option=com_jem&view=event&id=40
 576:toyjoy-fallsheeps&Itemid=1094
END:VEVENT
BEGIN:VEVENT
UID:event40604@Tokyo Gig Guide
DTSTAMP:20260422T174108Z
CATEGORIES:Alternative\, Ambient\, Dream-pop\, Electronic\, Electro-Pop
DESCRIPTION:Discovery Zone\, dip in the pool\nカテゴリ: Alternative\, Ambient\,
  Dream-pop\, Electronic\, Electro-Pop\nリンク: https://www.tokyogigguide.com/
 index.php?option=com_jem&view=event&id=40604:discovery-zone-dip-in-the-poo
 l&Itemid=1094\n
DTSTART:20260616T190000
DTEND:20260616T190000
LOCATION:SPREAD\,2-12-6 Kitazawa\, Setagaya-ku\, Tokyo\,Shimokitazawa\,Japa
 n
SUMMARY:Discovery Zone\, dip in the pool
URL:https://www.tokyogigguide.com/index.php?option=com_jem&view=event&id=40
 604:discovery-zone-dip-in-the-pool&Itemid=1094
END:VEVENT
END:VCALENDAR
