BEGIN:VCALENDAR
VERSION:2.0
PRODID:-//104.152.168.27//NONSGML kigkonsult.se iCalcreator 2.20//
CALSCALE:GREGORIAN
METHOD:PUBLISH
X-WR-TIMEZONE:Asia/Tokyo
BEGIN:VEVENT
UID:event40706@Tokyo Gig Guide
DTSTAMP:20260422T123543Z
CATEGORIES:Alternative\, Rock\, Indie-Rock\, Indie\, Garage Rock
DESCRIPTION:Hyena car\, Gamigami\, barrowheim\, SLLOW\, anyu\nカテゴリ: Alterna
 tive\, Rock\, Indie-Rock\, Indie\, Garage Rock\nリンク: https://www.tokyogigg
 uide.com/index.php?option=com_jem&view=event&id=40706:hyena-car-gamigami-b
 arrowheim-sllow-anyu&Itemid=1094\n
DTSTART:20260427T183000
DTEND:20260427T183000
LOCATION:Three\,Kitazawa 5-18-1 B1F\, Setagaya-ku\, Tokyo\,Shimokitazawa
SUMMARY:Hyena car\, Gamigami\, barrowheim\, SLLOW\, anyu
URL:https://www.tokyogigguide.com/index.php?option=com_jem&view=event&id=40
 706:hyena-car-gamigami-barrowheim-sllow-anyu&Itemid=1094
END:VEVENT
END:VCALENDAR
