BEGIN:VCALENDAR
VERSION:2.0
PRODID:-//104.152.168.27//NONSGML kigkonsult.se iCalcreator 2.20//
CALSCALE:GREGORIAN
METHOD:PUBLISH
X-WR-TIMEZONE:Asia/Tokyo
BEGIN:VEVENT
UID:event40074@Tokyo Gig Guide
DTSTAMP:20260424T043237Z
CATEGORIES:Alternative\, Garage Rock\, Hardcore\, Indie-Rock\, Party
DESCRIPTION:NEGATIVE ZERO\, Igiko Pop\, Thrice Upon a Time\, Two Tone Sloth
 \nカテゴリ: Alternative\, Garage Rock\, Hardcore\, Indie-Rock\, Party\nリンク: ht
 tps://www.tokyogigguide.com/index.php?option=com_jem&view=event&id=40074:n
 egative-zero-igiko-pop-thrice-upon-a-time-two-tone-sloth&Itemid=1094\n
DTSTART:20260424T190000
DTEND:20260424T190000
LOCATION:NOB\,Maruyamacho 1-3 BF\, Shibuya-ku\,Shibuya
SUMMARY:NEGATIVE ZERO\, Igiko Pop\, Thrice Upon a Time\, Two Tone Sloth
URL:https://www.tokyogigguide.com/index.php?option=com_jem&view=event&id=40
 074:negative-zero-igiko-pop-thrice-upon-a-time-two-tone-sloth&Itemid=1094
END:VEVENT
BEGIN:VEVENT
UID:event40765@Tokyo Gig Guide
DTSTAMP:20260424T043237Z
CATEGORIES:Disco-punk\, Funk\, Hard Rock\, Party\, Rock
DESCRIPTION:RHCP Freaks\, Igiko Pop\, Ignorant Pigeon\, Distant Socialites
 \nカテゴリ: Disco-punk\, Funk\, Hard Rock\, Party\, Rock\nリンク: https://www.tok
 yogigguide.com/index.php?option=com_jem&view=event&id=40765:japan-s-only-r
 ed-hot-chili-peppers-tribute-band-rhcp-freaks-igiko-pop-ignorant-pigeon-di
 stant-socialites&Itemid=1094\n
DTSTART:20260529T200000
DTEND:20260529T200000
LOCATION:NOB\,Maruyamacho 1-3 BF\, Shibuya-ku\,Shibuya
SUMMARY:RHCP Freaks\, Igiko Pop\, Ignorant Pigeon\, Distant Socialites
URL:https://www.tokyogigguide.com/index.php?option=com_jem&view=event&id=40
 765:japan-s-only-red-hot-chili-peppers-tribute-band-rhcp-freaks-igiko-pop-
 ignorant-pigeon-distant-socialites&Itemid=1094
END:VEVENT
END:VCALENDAR
