BEGIN:VCALENDAR
VERSION:2.0
PRODID:-//104.152.168.27//NONSGML kigkonsult.se iCalcreator 2.20//
CALSCALE:GREGORIAN
METHOD:PUBLISH
X-WR-TIMEZONE:Asia/Tokyo
BEGIN:VEVENT
UID:event40079@Tokyo Gig Guide
DTSTAMP:20260424T020623Z
CATEGORIES:Alternative\, Garage Rock\, Indie-Rock\, Rock
DESCRIPTION:papalion\, キヨステ\, Honeydew\nカテゴリ: Alternative\, Garage Rock\, I
 ndie-Rock\, Rock\nリンク: https://www.tokyogigguide.com/index.php?option=com_
 jem&view=event&id=40079:papalion-honeydew&Itemid=1094\n
DTSTART:20260424T183000
DTEND:20260424T183000
LOCATION:Club Sensation\,3-80 Miyagawa-cho\, Naka-ku\, Yokohama\,Yokohama
SUMMARY:papalion\, キヨステ\, Honeydew
URL:https://www.tokyogigguide.com/index.php?option=com_jem&view=event&id=40
 079:papalion-honeydew&Itemid=1094
END:VEVENT
END:VCALENDAR
